BEGIN:VCALENDAR
VERSION:2.0
PRODID:-//Château d&#039;Ainay-le-Vieil - ECPv6.15.20//NONSGML v1.0//EN
CALSCALE:GREGORIAN
METHOD:PUBLISH
X-ORIGINAL-URL:https://chateau-ainaylevieil.fr
X-WR-CALDESC:Évènements pour Château d&#039;Ainay-le-Vieil
REFRESH-INTERVAL;VALUE=DURATION:PT1H
X-Robots-Tag:noindex
X-PUBLISHED-TTL:PT1H
BEGIN:VTIMEZONE
TZID:Europe/Paris
BEGIN:DAYLIGHT
TZOFFSETFROM:+0100
TZOFFSETTO:+0200
TZNAME:CEST
DTSTART:20230326T010000
END:DAYLIGHT
BEGIN:STANDARD
TZOFFSETFROM:+0200
TZOFFSETTO:+0100
TZNAME:CET
DTSTART:20231029T010000
END:STANDARD
BEGIN:DAYLIGHT
TZOFFSETFROM:+0100
TZOFFSETTO:+0200
TZNAME:CEST
DTSTART:20240331T010000
END:DAYLIGHT
BEGIN:STANDARD
TZOFFSETFROM:+0200
TZOFFSETTO:+0100
TZNAME:CET
DTSTART:20241027T010000
END:STANDARD
BEGIN:DAYLIGHT
TZOFFSETFROM:+0100
TZOFFSETTO:+0200
TZNAME:CEST
DTSTART:20250330T010000
END:DAYLIGHT
BEGIN:STANDARD
TZOFFSETFROM:+0200
TZOFFSETTO:+0100
TZNAME:CET
DTSTART:20251026T010000
END:STANDARD
END:VTIMEZONE
BEGIN:VEVENT
DTSTART;VALUE=DATE:20240329
DTEND;VALUE=DATE:20240930
DTSTAMP:20260420T041458
CREATED:20240307T105339Z
LAST-MODIFIED:20240830T064746Z
UID:10000145-1711670400-1727654399@chateau-ainaylevieil.fr
SUMMARY:"Organiques"\, sculptures de Véronique Wirth
DESCRIPTION:« Organiques »\nAprès Julien Marinetti\, Daniel Hourdé et Juan Garaizabal\, c’est au tour de Véronique Wirth d’exposer dans les jardins du château d’Ainay-le-Vieil. Comme les précédents artistes\, une de ces œuvres viendra rejoindre le jardin de sculptures d’Arielle et Hervé Borne au cœur des jardins du château. \n« La nature est essentielle à mon travail\, elle me nourrit et m’inspire au quotidien. J’ai une admiration sans limite pour les herbes folles\, celles qu’on voit au bord des routes…je les contemple\, inlassablement. La nature me parle de l’importance du temps aussi\, mais dans la nécessité de prendre le temps … indispensable ingrédient de ma création. Je ressens ce que je vais créer\, comme une intuition… et puis je dessine. Je  »triture » mes intuitions sur le papier et le dessin peut déclencher l’action de confrontation à la matière. Dans l’action\, l’acier me révèle d’autres surprises que j’accueille et insère parfois dans mon processus de création. \nDans toute sculpture je suis en quête d’équilibre\, de lignes essentielles…je cherche la force dans le simple\, ma démarche a des teintes minimalistes.Je cherche légèreté\, transparence\, jeux d’équilibre\, mouvement avec l’acier. Cet état de création est source d’une joie profonde\, il est quotidien\, d’une absolue nécessité. \nAujourd’hui dans mes sculptures en acier j’affectionne particulièrement le fer à béton. Il devient fil d’acier…Je détourne ce matériau d’aspect rude et lourd au profit d’œuvres ‘’légères’’\, qui prennent une forme organique\, mi-animale mi-végétale\, quelque chose de vivant\, de la puissance mais de la douceur. Je choisis mon matériau et puis je le tronçonne\, je le multiplie par centaines de morceaux et j’assemble en soudant jusqu’à ce que le cerveau l’oublie dans sa nouvelle représentation. \nLe fer à béton est associé à l’idée de résistance\, de lourdeur\, de rudesse\, de violence même…et mon défi c’est de transformer cette apparente évidence en joie et en légèreté… » \nUne exposition à découvrir dans les jardins et la roseraie du Château d’Ainay-le-Vieil du 29 mars au 29 septembre 2024 \nTélécharger le Dossier de presse de l’exposition « Organiques » \nVisionner l’interview de Véronique Wirth par Arielle de La Tour d’Auvergne
URL:https://chateau-ainaylevieil.fr/evenement/organiques-sculptures-de-veronique-wirth/
LOCATION:Parc & Jardins\, 7 rue du Château\, Ainay-le-Vieil\, 18200\, France
CATEGORIES:Arts,Exposition
ATTACH;FMTTYPE=image/jpeg:https://chateau-ainaylevieil.fr/wp-content/uploads/2024/03/2024-Ainay-EXPO-v-Wirth-SMImages-820x312-1.jpg
ORGANIZER;CN="Ch%C3%A2teau d'Ainay-le-Vieil":MAILTO:accueil@chateau-ainaylevieil.fr
END:VEVENT
BEGIN:VEVENT
DTSTART;VALUE=DATE:20240329
DTEND;VALUE=DATE:20240930
DTSTAMP:20260420T041458
CREATED:20240307T110139Z
LAST-MODIFIED:20240307T112436Z
UID:10000146-1711670400-1727654399@chateau-ainaylevieil.fr
SUMMARY:Musée des Arts et Traditions populaires
DESCRIPTION:Musée d’Art et Traditions Populaires\nExposition permanente et gratuite : Plongez dans la vie quotidienne des habitants d’Ainay-le-Vieil à la veille de la Guerre 14-18. \nEn savoir plus
URL:https://chateau-ainaylevieil.fr/evenement/musee-des-arts-et-traditions-populaires/
LOCATION:Musée d’Art et Traditions Populaires du Château d’Ainay-le-Vieil\, 7 rue du Château\, Ainay-le-Vieil\, 18200\, France
CATEGORIES:Exposition,Visite
ATTACH;FMTTYPE=image/jpeg:https://chateau-ainaylevieil.fr/wp-content/uploads/2024/03/2024-Ainay-EXPO-Musee-820x312-1.jpg
ORGANIZER;CN="Ch%C3%A2teau d'Ainay-le-Vieil":MAILTO:accueil@chateau-ainaylevieil.fr
END:VEVENT
BEGIN:VEVENT
DTSTART;VALUE=DATE:20240329
DTEND;VALUE=DATE:20240930
DTSTAMP:20260420T041458
CREATED:20240307T111522Z
LAST-MODIFIED:20240313T104621Z
UID:10000147-1711670400-1727654399@chateau-ainaylevieil.fr
SUMMARY:Au bout du conte...
DESCRIPTION:Au bout du conte…\nExposition photographique temporaire d’Aline Kundig\, Emmanuelle Michaux et Arielle de La Tour d’Auvergne.\nL’univers des contes s’invite au Château d’Ainay-le-Vieil. Trois artistes\, au travers de la photographie et de la vidéo\, présentent leur vision personnelle des contes.  \nAline Kundig aborde le sujet sous la forme d’un roman photo. « Les Reines du Monde » raconte la quête de deux femmes pour un royaume sans nom\, à une époque indistincte. Une histoire pleine d’humour et d’émotion qui s’amuse de nos épopées amoureuses que l’on soit Reine ou non. \nGrâce à une installation spécialement conçue pour cette exposition : vidéo\, série de photographies\, miroirs et comptine\, Emmanuelle Michaux aborde le sujet du merveilleux\, derrière lequel se cache bien souvent une part d’ombre. \nArielle de La Tour d’Auvergne présente une série de 7 photos : « La clé des contes ». Les images ont toutes été prises au Château d’Ainay-le-Vieil. Une histoire qui nous mène dans un château mystérieux et qui au fur et à mesure de notre déambulation et des objets que nous découvrons\, nous plonge dans l’univers magique des contes de fée\, entre rêve et réalité. \nSuite de l’expositions dans le Jardin clos\n• Exposition temporaire (suite) : Au bout du conte…\, exposition photographique d’Aline Kundig. \nTélécharger une présentation des artistes
URL:https://chateau-ainaylevieil.fr/evenement/au-bout-du-conte/
LOCATION:Musée des Arts et Traditions populaires et Jardin clos\, 7 rue du Château\, Ainay-le-Vieil\, Select a State:\, 18200\, France
CATEGORIES:Exposition,Visite
ATTACH;FMTTYPE=image/jpeg:https://chateau-ainaylevieil.fr/wp-content/uploads/2024/03/2024-Ainay-EXPO-AuBoutDuConte-SMImages-820x312-1.jpg
ORGANIZER;CN="Ch%C3%A2teau d'Ainay-le-Vieil":MAILTO:accueil@chateau-ainaylevieil.fr
END:VEVENT
BEGIN:VEVENT
DTSTART;VALUE=DATE:20240531
DTEND;VALUE=DATE:20240603
DTSTAMP:20260420T041458
CREATED:20240308T092223Z
LAST-MODIFIED:20240527T102410Z
UID:10000151-1717113600-1717372799@chateau-ainaylevieil.fr
SUMMARY:21ème édition des "Rendez-vous aux jardins"• thème des "5 sens au jardin"
DESCRIPTION:Comme chaque année\, le Château d’Ainay-le-Vieil s’associe au Ministère de la Culture et ouvre ses jardins. Le thème retenu pour cette 21e édition « Les cinq sens au jardin » offre l’opportunité de (re)découvrir les jardins à travers l’ouïe\, l’odorat\, le toucher\, la vue et le goût.\nLe château d’Ainay-le-Vieil propose une promenade initiatique dans les jardins : \n\nLa roseraie : l’odorat\nLes ruches : le goût – le miel\nAllée des poètes : l’ouïe – les oiseaux\nLe cloître des simples : le toucher – bain de forêt\nPerspective du carré en l’île : la vue – un cadre.\n\nNous proposerons également une visite des jardins par les propriétaires. \nAnimations\nLE TOUCHER : le bain de forêt\nLe bain de forêt ou shinrin yoku (en japonais) c’est se connecter avec la nature par l’intermédiaire de nos cinq sens (toucher\, ouïe\, vue\, odorat\, goût) et améliorer notre bien être en marchant dans la nature. C’est un besoin biologique qui a concouru depuis des millénaires à notre survie. Nous allons recréer ce pont entre nous et le monde naturel\, pour les bouddhistes la forêt est le royaume du divin.\nShizen (nature) renvoie à l’idée de notre connexion avec la nature émotionnellement\, spirituellement et physiquement.\nRESSENTEZ SEULEMENT\, RECENTREZ VOUS  \nLe château d’Ainay-le-Vieil avec Evelyne BENENTENDI (Architecte-paysagiste DPLG\, aquarelliste\, bouddhiste et initiée à l’aromathérapie) vous proposent un parcours du Bain de Forêt d’une heure.\nRendez-vous à la Boutique du Château.\nTout d’abord\, une pause avec relaxation et respiration pleine conscience pour se connecter avec soi-même\, la nature et les éléments.\nEnsuite une petite marche lente en silence pour ouvrir tous ses sens aux jardins\, regarder vraiment\, entendre vraiment\, sentir vraiment et toucher vraiment tout en étant centrer sur soi.\nEt pour finir vous choisirez un arbre qui vous attire. Placez vos mains sur le tronc d’un arbre\, encerclez le tronc de votre arbre\, posez la joue dessus\, humez-le\, écoutez-le\, parlez-lui…il vous répondra.\nEnfin\, une présentation des huiles essentielles des conifères japonais pour prolonger le bain de forêt chez vous. \nEvelyne vous invite aussi à la retrouver à Lignières (18160) pour des Bains de Forêt du 14 juillet au 15 août 2024. Renseignements auprès de l’Office de Tourisme. \nLE GOÛT : l’Apiculture\nMonsieur Riou\, apiculteur\, viendra partager son expérience.\nInterventions : samedi et dimanche entre 15 h et 17 h \nL’OUÏE : le chant des oiseaux\nLes oiseaux ont une place importante dans les jardins du Château d’Ainay-le-Vieil. Nous avons la chance de les entendre chanter et avons installé un certain nombre de nichoirs le long de l’« Allée des poètes ».\nIntervention : samedi à 10 h \n \nL’ODORAT : la roseraie et les jardins\nHervé Borne\, propriétaire\, vous conduira à travers les jardins et la roseraie pour une visite exceptionnelle.\nIntervention : samedi à 16 h \n  \nMais aussi :\nSamedi 1er mai\, le restaurant de La Volière vous invite à un atelier dégustation exceptionnel. N’hésitez pas à tenter l’expérience !
URL:https://chateau-ainaylevieil.fr/evenement/21eme-edition-des-rendez-vous-aux-jardins-theme-des-5-sens-au-jardin/
LOCATION:Parc & Jardins\, 7 rue du Château\, Ainay-le-Vieil\, 18200\, France
CATEGORIES:Évènement,Jardins
ATTACH;FMTTYPE=image/jpeg:https://chateau-ainaylevieil.fr/wp-content/uploads/2024/03/2024-Ainay-EVENEMENT-RdVs-au-jardin-820x312-1.jpg
ORGANIZER;CN="Ch%C3%A2teau d'Ainay-le-Vieil":MAILTO:accueil@chateau-ainaylevieil.fr
END:VEVENT
BEGIN:VEVENT
DTSTART;VALUE=DATE:20240601
DTEND;VALUE=DATE:20240602
DTSTAMP:20260420T041458
CREATED:20240308T092807Z
LAST-MODIFIED:20240308T095024Z
UID:10000152-1717200000-1717286399@chateau-ainaylevieil.fr
SUMMARY:Dégustation de Chocolat & Rhum à La Volière
DESCRIPTION:Découvrez le monde du chocolat Bean-to-Bar et du rhum ultra premium de Venezuela à travers notre activité exclusive dans le cadre de Nouvelles Renaissances 2024 sur le thème « Effervescences ».  \nRejoignez-nous au restaurant La Volière du Château d’Ainay-Le-Vieil et laissez-nous vous guider à travers l’histoire fascinante d’un mariage sans égal.
URL:https://chateau-ainaylevieil.fr/evenement/degustation-de-chocolat-rhum-a-la-voliere/
LOCATION:Restaurant La Volière\, Rue du Château ^\, Ainay-le-Vieil\, 18200\, France
CATEGORIES:Atelier dégustation,Évènement
ATTACH;FMTTYPE=image/jpeg:https://chateau-ainaylevieil.fr/wp-content/uploads/2024/03/2024-Ainay-EVENEMENT-LaVoliere-Degustation-830x312-2.jpg
ORGANIZER;CN="Ch%C3%A2teau d'Ainay-le-Vieil":MAILTO:accueil@chateau-ainaylevieil.fr
END:VEVENT
END:VCALENDAR